BEGIN:VCALENDAR
VERSION:2.0
PRODID:icalendar-ruby
CALSCALE:GREGORIAN
METHOD:PUBLISH
BEGIN:VEVENT
DTSTAMP:20260421T213938Z
UID:7-537784@livingstonmemorial.org
DTSTART:20261101T163000Z
DTEND:20261101T180000Z
CLASS:PUBLIC
CREATED:20260421T151846
DESCRIPTION:Join us every Sunday as we come together to worship God in spir
 it and truth!
LAST-MODIFIED:20260421T151846
LOCATION:Livingston Memorial Church
SUMMARY:Sunday Worship Service
URL;VALUE=URI:https://www.livingstonmemorial.org/events/sunday-worship-serv
 ice/2026-11-01
ATTACH;FILENAME=Livingston-Memorial-Program-Announcements-%289%29.png;FMTTY
 PE=image/png:https://dq5pwpg1q8ru0.cloudfront.net/2025/08/14/01/21/51/d0c5
 c03b-7daf-4e9b-a7e0-8bd22f720598/Livingston-Memorial-Program-Announcements
 -%25289%2529.png
END:VEVENT
END:VCALENDAR
