BEGIN:VCALENDAR
VERSION:2.0
PRODID:icalendar-ruby
CALSCALE:GREGORIAN
METHOD:PUBLISH
BEGIN:VEVENT
DTSTAMP:20260421T214029Z
UID:8-537847@livingstonmemorial.org
DTSTART:20261025T143000Z
DTEND:20261025T151500Z
CLASS:PUBLIC
CREATED:20260421T151846
DESCRIPTION:Join Us for Sunday SchoolAt Livingston Memorial Church\, we bel
 ieve Sunday School is more than a class—it’s a time to grow deeper in 
 God’s Word\, connect with others\, and strengthen your walk with Christ.
  Whether you’re new to the faith or have been walking with Jesus for yea
 rs\, there’s a place for you here.
LAST-MODIFIED:20260421T151846
LOCATION:Livingston Memorial Church
SUMMARY:Sunday School 
URL;VALUE=URI:https://www.livingstonmemorial.org/events/sunday-school--8/20
 26-10-25
ATTACH;FILENAME=Livingston-Memorial-Program-Announcements-%2811%29.png;FMTT
 YPE=image/png:https://dq5pwpg1q8ru0.cloudfront.net/2025/08/14/01/45/38/070
 8ce53-e32e-4a9c-bd48-fb3b75ce1002/Livingston-Memorial-Program-Announcement
 s-%252811%2529.png
END:VEVENT
END:VCALENDAR
